BEGIN:VCALENDAR
VERSION:2.0
PRODID:-//https://eruuf.org///NONSGML kigkonsult.se iCalcreator 2.10.15//
METHOD:PUBLISH
BEGIN:VEVENT
UID:20260425T034402UTC-3884o9tNnk@https://eruuf.org/
DTSTAMP:20260425T034402Z
DESCRIPTION:10:30 – 12:30  Pride Parade:  March with UUs.  Note:  this year
  there is no vehicle available so we are walking or using individual mobil
 ity devices.  Please allow time for parking and arrive by 10:00 to assembl
 e our group.12:00-4:00  Festival: Stop by the ERUUF booth for free rainbow
  lanyards and temporary tattoos https://eruuf.org/calendar/calendar-view/e
 vent/12257-pride-parade-at-duke-east-campus.html
DTSTART:20220924T143000Z
DTEND:20220924T200000Z
LOCATION:Duke East Campus\, Durham\, NC ()
SUMMARY:Pride Parade at Duke East Campus
URL:https://eruuf.org/calendar/calendar-view/event/12257-pride-parade-at-du
 ke-east-campus.html
END:VEVENT
END:VCALENDAR
