BEGIN:VCALENDAR
VERSION:2.0
PRODID:-//https://eruuf.org///NONSGML kigkonsult.se iCalcreator 2.10.15//
METHOD:PUBLISH
BEGIN:VEVENT
UID:20260424T214054UTC-7984aRV5KR@https://eruuf.org/
DTSTAMP:20260424T214054Z
DESCRIPTION:Get Out The Vote - Ask Me Anything Event on Tuesday\, September
  13 from 7:00 - 8:30 on Zoom with GOTV experts - Marilyn Hartman from Caro
 lina Jews for Justice and Rev. Lisa Garcia Sampson of UU Justice NC. Does 
 phone banking work? Do people really read those postcards? Ask questions a
 nd get answers as to how to get out the vote and mobilize for this importa
 nt election! Register Here\n \n\nYou Can Vote Volunteer Trainings are back
 ! Volunteers who want to help educate and register voters in their communi
 ty at You Can Vote events need to first attend a volunteer training in 202
 2. You can learn more about our long-time state-wide partner You Can Vote 
 here\n\nSaturday\, September 10th from 10:00 AM - 11:30 AM - Register here
 \nThursday\, September 15th from 5:30 PM - 7:00 PM - Register here\nSaturd
 ay\, September 17th from 10:00 AM - 11:00 AM - Register here\nThursday\, S
 eptember 22th from 5:30 PM - 7:00 PM - Register here\n\n https://eruuf.org
 /calendar/calendar-view/event/12258-get-out-the-vote-uu-justice-ministry-o
 f-nc.html
DTSTART:20220913T230000Z
DTEND:20220914T003000Z
LOCATION:Online  (Online meetings are organized by the group leader. See th
 e meeting event details for information on how to join.)
SUMMARY:Get Out the Vote - UU Justice Ministry of NC
URL:https://eruuf.org/calendar/calendar-view/event/12258-get-out-the-vote-u
 u-justice-ministry-of-nc.html
END:VEVENT
END:VCALENDAR
