BEGIN:VCALENDAR
VERSION:2.0
PRODID:-//https://eruuf.org///NONSGML kigkonsult.se iCalcreator 2.10.15//
METHOD:PUBLISH
BEGIN:VEVENT
UID:20260424T033334UTC-7898bwuLjZ@https://eruuf.org/
DTSTAMP:20260424T033334Z
DESCRIPTION:A film about the citizen-led community-energy movement in Europ
 e and the visionaries lighting the way. 'We the Power: The Future of Energ
 y is Community-Owned'\, directed by David Garrett Byars\, chronicles local
  cooperatives from deep in Germany’s Black Forest to the streets of ancien
 t Girona in Spain and the urban rooftops of London\, England\, as they pav
 e the way for a renewable energy revolution and build healthier\, financia
 lly stable communities. https://eruuf.org/calendar/calendar-view/event/122
 59-earth-justice-film-viewing-we-the-power.html
DTSTART:20220930T230000Z
DTEND:20221001T003000Z
LOCATION:ERUUF Fellowship Hall (4907 Garrett Road)
SUMMARY:Earth Justice Film Viewing: 'We the Power' 
URL:https://eruuf.org/calendar/calendar-view/event/12259-earth-justice-film
 -viewing-we-the-power.html
END:VEVENT
END:VCALENDAR
