BEGIN:VCALENDAR
VERSION:2.0
PRODID:-//https://eruuf.org///NONSGML kigkonsult.se iCalcreator 2.10.15//
METHOD:PUBLISH
BEGIN:VEVENT
UID:20260424T020140UTC-7972jC4CEv@https://eruuf.org/
DTSTAMP:20260424T020140Z
DESCRIPTION:ERUUFians are invited to participate in an educational event on
  sustainable landscaping practices. Speakers include Johnny Randall\, NC B
 otanical Gardens\; Justin Bennett\, (or colleague)\, NC Forest Service\; S
 aad Masood\,  Durham County Soil and Water Conservation\; Julia Bales\, Tr
 iangle Grace Church\, and Denise Frizzell\, Earth Justice Action Group\, E
 no River UU Fellowship.Topics include native plants\, pollinator gardens\,
  tree stewardship\, and green infrastructure. Refreshments and beverages o
 ffered in the morning and afternoon.\nFee: $10 (scholarships available fro
 m Earth Justice).More information and registration available here. Locatio
 n: Triangle Grace Church\, 5001 Tudor Pl\, Durham\, NC.Point of contact: D
 enise Frizzell. https://eruuf.org/calendar/calendar-view/event/12359-susta
 inable-landscaping-practices-as-environmental-stewardship.html
DTSTART:20221001T133000Z
DTEND:20221001T173000Z
LOCATION:Triangle Grace Church (5001 Tudor Pl\, Durham\, NC 27713\, USA)
SUMMARY:Sustainable Landscaping Practices as Environmental Stewardship 
URL:https://eruuf.org/calendar/calendar-view/event/12359-sustainable-landsc
 aping-practices-as-environmental-stewardship.html
END:VEVENT
END:VCALENDAR
