BEGIN:VCALENDAR
VERSION:2.0
PRODID:-//https://eruuf.org///NONSGML kigkonsult.se iCalcreator 2.10.15//
METHOD:PUBLISH
BEGIN:VEVENT
UID:20260425T220537UTC-4318cNdV9o@https://eruuf.org/
DTSTAMP:20260425T220537Z
DESCRIPTION:Join CommunEcos this Fri. Oct. 14 at6:30 pm at Durham’s Eno Riv
 er UU Fellowship (ERUUF) for an event on low-income community solar. We’ll
  screen the Emmy Nominated film “Solar for All” and 3 accompanying short v
 ideos on an innovative Washington DC project\, with comments from Jim Sent
 er on the Pot Luck Farm/Elderberry co-op experiences with solar and discus
 sion to follow. A joint event with our colleagues in the ERUUF Earth Justi
 ce committee.\n“Solar for All” (2020) was the official selection of the Co
 lorado Environmental Film Festival last year. The 3 short films in the ser
 ies feature experiences of a participant in the program\, educational and 
 green job opportunities in the District\, and the role played by District 
 solar companies that capture the energy and share the financial benefits w
 ith neighborhoods in need. \nSocial gathering at 6:30 pm.  Free Event. Ple
 ase wear masks\, and the room will permit social distanced seating. Indivi
 dualized drinks and snacks will be available.  Film starts at 7 pm. \nhttp
 s://vimeo.com/391203375 https://eruuf.org/calendar/calendar-view/event/123
 77-solar-for-all-film-viewing-earth-justice.html
DTSTART:20221014T223000Z
DTEND:20221015T003000Z
LOCATION:ERUUF Fellowship Hall (4907 Garrett Road)
SUMMARY:'Solar for All' Film Viewing - Earth Justice
URL:https://eruuf.org/calendar/calendar-view/event/12377-solar-for-all-film
 -viewing-earth-justice.html
END:VEVENT
END:VCALENDAR
