BEGIN:VCALENDAR
VERSION:2.0
PRODID:-//https://eruuf.org///NONSGML kigkonsult.se iCalcreator 2.10.15//
METHOD:PUBLISH
BEGIN:VEVENT
UID:20260422T162214UTC-0670twx3NI@https://eruuf.org/
DTSTAMP:20260422T162214Z
DESCRIPTION: How switching to plant-based eating can greatly improve your h
 ealth\, and also cut your carbon footprint more than any other action you 
 could take. Join Dr. Sheline from the Earth Justice Team for a presentatio
 n and discussion on plant-based eating and it's impacts on health and the 
 environment. https://eruuf.org/calendar/calendar-view/event/12442-plant-ba
 sed-eating-health-and-justice.html
DTSTART:20221204T163000Z
DTEND:20221204T173000Z
LOCATION:Chapel - ERUUF Sanctuary (4907 Garrett Rd\, Durham\, NC 27707\, US
 A)
SUMMARY:Plant-based Eating\, Health\, and Justice 
URL:https://eruuf.org/calendar/calendar-view/event/12442-plant-based-eating
 -health-and-justice.html
END:VEVENT
END:VCALENDAR
