BEGIN:VCALENDAR
VERSION:2.0
PRODID:-//https://eruuf.org///NONSGML kigkonsult.se iCalcreator 2.10.15//
METHOD:PUBLISH
BEGIN:VEVENT
UID:20260424T211954UTC-7950vddU7O@https://eruuf.org/
DTSTAMP:20260424T211954Z
DESCRIPTION:Join ERUUF's Earth Justice group for a showing of 'Milked'\, Am
 y Taylor's documentary about a young activist who takes on the giants of N
 ew Zealand’s powerful dairy industry to uncover the environmental and heal
 th damage done. This journey exposes not only the sustainability crisis an
 d the dangerous denial of impending agricultural disruption\, but also wha
 t New Zealand and other countries need to do to change their fate.\nPlease
  stick around after the film for a discussion. \nEmail Jonathan Sheline fo
 r more details.  https://eruuf.org/calendar/calendar-view/event/12447-milk
 ed-film-viewing-w-earth-justice.html
DTSTART:20221202T234500Z
DTEND:20221203T020000Z
LOCATION:ERUUF Fellowship Hall (4907 Garrett Road)
SUMMARY:'Milked' Film Viewing w/ Earth Justice
URL:https://eruuf.org/calendar/calendar-view/event/12447-milked-film-viewin
 g-w-earth-justice.html
END:VEVENT
END:VCALENDAR
