BEGIN:VCALENDAR
VERSION:2.0
PRODID:-//https://eruuf.org///NONSGML kigkonsult.se iCalcreator 2.10.15//
METHOD:PUBLISH
BEGIN:VEVENT
UID:20260423T183846UTC-0983VU0Zrz@https://eruuf.org/
DTSTAMP:20260423T183846Z
DESCRIPTION:The Board invites the congregation to participate in strategic 
 planning conversations for the future of ERUUF. This is a strategic planni
 ng process of the Board for the whole congregation - everyone is invited t
 o participate. \nThis is the year for developing a new ERUUF Strategic Pla
 n! As directed by the Board’s 2022-23 Annual Vision of Ministry\, ERUUF wi
 ll “Imagine and articulate a bold 2023-2026 strategic plan to advance ERUU
 F’s mission\, vision and values.”  The kick-off for this process will be a
  week for Planning Our Future: January 18-25\, 2023\, during which there w
 ill be opportunities for members and friends of ERUUF to participate in a 
 Planning Our Future World Cafe\, an informal setting for participants to e
 xplore topics through small group discussions.   \nERUUF will host five Wo
 rld Cafe sessions: \nJanuary 18\, 20\, 23 and 25\, 7:00 - 8:30 pm (online 
 via zoom)January 22\, 12:30 - 2:00 pm (in-person\, Fellowship Hall) \nRegi
 ster Here https://eruuf.org/calendar/calendar-view/event/12453-world-cafe-
 eruuf-planning.html
DTSTART:20230122T173000Z
DTEND:20230122T190000Z
LOCATION:ERUUF Fellowship Hall (4907 Garrett Road)
SUMMARY:World Café - ERUUF Planning
URL:https://eruuf.org/calendar/calendar-view/event/12453-world-cafe-eruuf-p
 lanning.html
END:VEVENT
END:VCALENDAR
