BEGIN:VCALENDAR
VERSION:2.0
PRODID:-//https://eruuf.org///NONSGML kigkonsult.se iCalcreator 2.10.15//
METHOD:PUBLISH
BEGIN:VEVENT
UID:20260426T034805UTC-6326ggUtxx@https://eruuf.org/
DTSTAMP:20260426T034805Z
DESCRIPTION:Join Jonathan Sheline in watching The Territory\, a National Ge
 ographic documentary directed by Alex Pritz that follows the Uru-eu-wau-wa
 u people as they fight back against farmers\, colonizers\, and settlers wh
 o encroach on a protected area of the Amazon Rainforest. Filmed on locatio
 n in Brazil from 2018 to 2020\, the film utilizes almost exclusively on-th
 e-ground\, primary source material\, including footage produced directly b
 y the Uru-eu-wau-wau. \nStick around after the film for a 30min discussion
 ! \nPlease contact Jonathan Sheline (jonsheline@gmail.com) for more inform
 ation. \nDrinks will be served in line with ERUUF's current COVID-19 polic
 y.  https://eruuf.org/calendar/calendar-view/event/12486-the-territory-fil
 m-viewing-earth-justice.html
DTSTART:20230114T000000Z
DTEND:20230114T020000Z
LOCATION:ERUUF Fellowship Hall (4907 Garrett Road)
SUMMARY:'The Territory' Film Viewing (Earth Justice)
URL:https://eruuf.org/calendar/calendar-view/event/12486-the-territory-film
 -viewing-earth-justice.html
END:VEVENT
END:VCALENDAR
