BEGIN:VCALENDAR
VERSION:2.0
PRODID:-//https://eruuf.org///NONSGML kigkonsult.se iCalcreator 2.10.15//
METHOD:PUBLISH
BEGIN:VEVENT
UID:20260420T072116UTC-78330U387p@https://eruuf.org/
DTSTAMP:20260420T072116Z
DESCRIPTION:Maria Martinmariamartin1@earthlink.net919-360-1902  https://eru
 uf.org/calendar/calendar-view/event/1250-soul-to-soul-women-s-group.html
DTSTART:20150503T170000Z
DTEND:20150503T190000Z
LOCATION:Room 3 - CARE Building ()
SUMMARY:Soul to Soul Women's Group
URL:https://eruuf.org/calendar/calendar-view/event/1250-soul-to-soul-women-
 s-group.html
END:VEVENT
END:VCALENDAR
