BEGIN:VCALENDAR
VERSION:2.0
PRODID:-//https://eruuf.org///NONSGML kigkonsult.se iCalcreator 2.10.15//
METHOD:PUBLISH
BEGIN:VEVENT
UID:20260424T234915UTC-10189a9s2F@https://eruuf.org/
DTSTAMP:20260424T234915Z
DESCRIPTION:Eno River CUUPS celebrates Ostara\, the sacred season of Spring
  Equinox. Ostara is an ancient name for this traditional celebration\, so 
 ancient in fact that our word 'Easter' comes directly from 'Eastre'\, the 
 Name of the Teutonic Goddess of Spring whose sacred animal is the Rabbit\,
  and who was honored by gifts of red-dyed eggs left on doorsteps of family
  and friends inviting good fortune and blessings.\nOur gathering will incl
 ude ceremony\, a sacred song with simple movement\, Calling the Directions
 \, group sharing\, and a hands-on creative ritual celebrating Ostara. \nFo
 r more information or to be added to the Eno River CUUPS mailing list\, pl
 ease contact Lila at LKRosa1@aol.com. Hope you can join us! https://eruuf.
 org/calendar/calendar-view/event/12539-ostara-celebration.html
DTSTART:20230319T190000Z
DTEND:20230319T203000Z
LOCATION:ERUUF Fellowship Hall (4907 Garrett Road)
SUMMARY:Ostara Celebration
URL:https://eruuf.org/calendar/calendar-view/event/12539-ostara-celebration
 .html
END:VEVENT
END:VCALENDAR
