BEGIN:VCALENDAR
VERSION:2.0
PRODID:-//https://eruuf.org///NONSGML kigkonsult.se iCalcreator 2.10.15//
METHOD:PUBLISH
BEGIN:VEVENT
UID:20260423T170552UTC-632857fs7X@https://eruuf.org/
DTSTAMP:20260423T170552Z
DESCRIPTION:Contact: Beth Harvat\, bethandpeter@gmail.com  https://eruuf.or
 g/calendar/calendar-view/event/1255-tuesday-evening-prayer-group.html
DTSTART:20151104T000000Z
DTEND:20151104T013000Z
LOCATION:Room 3 - CARE Building ()
SUMMARY:Tuesday Evening Prayer Group
URL:https://eruuf.org/calendar/calendar-view/event/1255-tuesday-evening-pra
 yer-group.html
END:VEVENT
END:VCALENDAR
