BEGIN:VCALENDAR
VERSION:2.0
PRODID:-//https://eruuf.org///NONSGML kigkonsult.se iCalcreator 2.10.15//
METHOD:PUBLISH
BEGIN:VEVENT
UID:20260425T203129UTC-7965oum1un@https://eruuf.org/
DTSTAMP:20260425T203129Z
DESCRIPTION:In the mid-80s\, hogs became big business in North Carolina. Ho
 wever\, the hog farming industry provided social\, political\, and environ
 mental concerns for the state. This documentary\, produced in 1995\, explo
 res the questions raised over pigs\, politics and pollution.\nPlease stick
  around after the film for a discussion! \nPlease email Betsy Bickel (bets
 ybickel@gmail.com) for more information.  https://eruuf.org/calendar/calen
 dar-view/event/12558-pigs-politics-pollution-film-viewing-w-earth-justice.
 html
DTSTART:20230218T000000Z
DTEND:20230218T013000Z
LOCATION:ERUUF Fellowship Hall (4907 Garrett Road)
SUMMARY:'Pigs\, Politics\, & Pollution' Film Viewing w/ Earth Justice
URL:https://eruuf.org/calendar/calendar-view/event/12558-pigs-politics-poll
 ution-film-viewing-w-earth-justice.html
END:VEVENT
END:VCALENDAR
