BEGIN:VCALENDAR
VERSION:2.0
PRODID:-//https://eruuf.org///NONSGML kigkonsult.se iCalcreator 2.10.15//
METHOD:PUBLISH
BEGIN:VEVENT
UID:20260422T005047UTC-8549uNVeKP@https://eruuf.org/
DTSTAMP:20260422T005047Z
DESCRIPTION:Save the date for our fabulously-informative Finance Forum on S
 unday\, Feb. 19. We will provide an update on this year's budget\, the sta
 te of ERUUF's reserves\, and upcoming challenges and opportunities. All me
 mbers and friends are encouraged to attend. This forum will be online via 
 Zoom only\; no in-person meeting. \nZoom LINK https://eruuf.org/calendar/c
 alendar-view/event/12567-finance-forum.html
DTSTART:20230215T173000Z
DTEND:20230215T183000Z
LOCATION:Online  (Online meetings are organized by the group leader. See th
 e meeting event details for information on how to join.)
SUMMARY:Finance Forum
URL:https://eruuf.org/calendar/calendar-view/event/12567-finance-forum.html
END:VEVENT
END:VCALENDAR
