BEGIN:VCALENDAR
VERSION:2.0
PRODID:-//https://eruuf.org///NONSGML kigkonsult.se iCalcreator 2.10.15//
METHOD:PUBLISH
BEGIN:VEVENT
UID:20260424T000758UTC-6748fHu77h@https://eruuf.org/
DTSTAMP:20260424T000758Z
DESCRIPTION: \nWe will provide an update on this year's budget\, the state 
 of ERUUF's reserves\, and upcoming challenges and opportunities. All membe
 rs and friends are encouraged to attend.\nZoom LINK https://eruuf.org/cale
 ndar/calendar-view/event/12568-mid-year-finance-forum.html
DTSTART:20230219T173000Z
DTEND:20230219T183000Z
LOCATION:Zoom Meeting ()
SUMMARY:Mid-year Finance Forum
URL:https://eruuf.org/calendar/calendar-view/event/12568-mid-year-finance-f
 orum.html
END:VEVENT
END:VCALENDAR
