BEGIN:VCALENDAR
VERSION:2.0
PRODID:-//https://eruuf.org///NONSGML kigkonsult.se iCalcreator 2.10.15//
METHOD:PUBLISH
BEGIN:VEVENT
UID:20260422T025525UTC-8269G8u024@https://eruuf.org/
DTSTAMP:20260422T025525Z
DESCRIPTION:The purpose of this class is to help you learn how to choose WH
 O to help and HOW to help with the resources you have. First\, we will lea
 rn how to examine our essential values.\nThen\, we will consider how to ma
 tch our values to our charitable giving\, how to assess our capacity to gi
 ve\, and how to select worthy organizations that are a match for our value
 s and our pocketbook. This class will show how Giving can be a joyous affi
 rmation of our values and hope for the world. The class is intended for pe
 ople of all ages and stages of life - from students to retirees.\nThis fou
 r session course will be co-facilitated by Cindy Kuhn and Clint McSherry\,
  who are members of ERUUF’s Stewardship Steering Team.\n \nREGISTER https:
 //eruuf.org/calendar/calendar-view/event/12570-making-your-contributions-c
 ount-2023.html
DTSTART:20230412T230000Z
DTEND:20230413T003000Z
LOCATION:Online  (Online meetings are organized by the group leader. See th
 e meeting event details for information on how to join.)
SUMMARY:Making Your Contributions Count 2023
URL:https://eruuf.org/calendar/calendar-view/event/12570-making-your-contri
 butions-count-2023.html
END:VEVENT
END:VCALENDAR
