BEGIN:VCALENDAR
VERSION:2.0
PRODID:-//https://eruuf.org///NONSGML kigkonsult.se iCalcreator 2.10.15//
METHOD:PUBLISH
BEGIN:VEVENT
UID:20260425T151023UTC-9140g0FcfJ@https://eruuf.org/
DTSTAMP:20260425T151023Z
DESCRIPTION:Contact: Beth Harvat\, bethandpeter@gmail.com  https://eruuf.or
 g/calendar/calendar-view/event/1258-tuesday-evening-prayer-group.html
DTSTART:20150804T230000Z
DTEND:20150805T003000Z
LOCATION:Room 3 - CARE Building ()
SUMMARY:Tuesday Evening Prayer Group
URL:https://eruuf.org/calendar/calendar-view/event/1258-tuesday-evening-pra
 yer-group.html
END:VEVENT
END:VCALENDAR
