BEGIN:VCALENDAR
VERSION:2.0
PRODID:-//https://eruuf.org///NONSGML kigkonsult.se iCalcreator 2.10.15//
METHOD:PUBLISH
BEGIN:VEVENT
UID:20260422T220607UTC-8644C8z2aO@https://eruuf.org/
DTSTAMP:20260422T220607Z
DESCRIPTION:Reimagining UU Principles. \nReach out to Nancy Henley (henleyn
 @gmail.com) for more information.  https://eruuf.org/calendar/calendar-vie
 w/event/12583-uua-article-2-process-team.html
DTSTART:20230402T160000Z
DTEND:20230402T173000Z
LOCATION:Sanctuary - ERUUF   (4907 Garrett Road\, Durham\, NC 27707  )
SUMMARY:UUA Article 2 Process Team
URL:https://eruuf.org/calendar/calendar-view/event/12583-uua-article-2-proc
 ess-team.html
END:VEVENT
END:VCALENDAR
