BEGIN:VCALENDAR
VERSION:2.0
PRODID:-//https://eruuf.org///NONSGML kigkonsult.se iCalcreator 2.10.15//
METHOD:PUBLISH
BEGIN:VEVENT
UID:20260424T202342UTC-8396lvOVJm@https://eruuf.org/
DTSTAMP:20260424T202342Z
DESCRIPTION:A talk by Rev. Dr. Arvid Straube\, Minister Emeritus\nNobody kn
 ows what the future of our faith will be post pandemics. But a recent stud
 y provides some hints. Informed by this\, Dr. Straube will share some refl
 ections on the way forward for liberal religion.\nResponses by:Rev. Dr. Ja
 mes Kubal-Komoto\, Lead Minister\, Unitarian Universalist Fellowship of Ra
 leigh & Rev. Lisa Garcia-Sampson\, Executive Director of UU Justice NC. \n
 Questions? Contact Rev. Brett\nClick here for the live stream!  https://er
 uuf.org/calendar/calendar-view/event/12584-death-and-resurrection-of-unita
 rian-universalism-talk-w-arvid-straube.html
DTSTART:20230329T230000Z
DTEND:20230330T000000Z
LOCATION:Sanctuary - ERUUF   (4907 Garrett Road\, Durham\, NC 27707  )
SUMMARY:'Death and Resurrection of Unitarian Universalism' Talk w/ Arvid St
 raube
URL:https://eruuf.org/calendar/calendar-view/event/12584-death-and-resurrec
 tion-of-unitarian-universalism-talk-w-arvid-straube.html
END:VEVENT
END:VCALENDAR
