BEGIN:VCALENDAR
VERSION:2.0
PRODID:-//https://eruuf.org///NONSGML kigkonsult.se iCalcreator 2.10.15//
METHOD:PUBLISH
BEGIN:VEVENT
UID:20260425T001240UTC-3801E9C6V8@https://eruuf.org/
DTSTAMP:20260425T001240Z
DESCRIPTION:The UUA Board has announced the process for gathering and revie
 wing proposals for revision of the Article II Study Report.On April 1\, th
 e UUA will post the form for submitting amendments and the dates for the M
 ay amendment discussion workshops. The following link spells out the proce
 ss before and during General Assembly. Details here.Additional background 
 and links to other documents can be found here on the ERUUF website.We wil
 l discuss the UUA's process and how we could participate.\n  https://eruuf
 .org/calendar/calendar-view/event/12585-reimagining-uu-principles.html
DTSTART:20230402T160000Z
DTEND:20230402T170000Z
LOCATION:Sanctuary - ERUUF   (4907 Garrett Road\, Durham\, NC 27707  )
SUMMARY:Reimagining UU Principles 
URL:https://eruuf.org/calendar/calendar-view/event/12585-reimagining-uu-pri
 nciples.html
END:VEVENT
END:VCALENDAR
