BEGIN:VCALENDAR
VERSION:2.0
PRODID:-//https://eruuf.org///NONSGML kigkonsult.se iCalcreator 2.10.15//
METHOD:PUBLISH
BEGIN:VEVENT
UID:20260422T025554UTC-5123tXTTxl@https://eruuf.org/
DTSTAMP:20260422T025554Z
DESCRIPTION:Please reserve the morning of May 20 for ERUUF's Annual Members
 hip meeting! Elections\, Budget\, Survey Results\, Strategic Plans and mor
 e!\nGathering with coffee and light refreshments at 9am\, with the meeting
  to begin at 9:30. This is a wonderful opportunity for our members to enga
 ge in the governance of our community. We need a quorum of 10% of our memb
 ership to open this meeting\, so we encourage all of our members to mark t
 his date on your calendar and plan to attend online or in-person.\nClick h
 ere to read more!  https://eruuf.org/calendar/calendar-view/event/12615-an
 nual-meeting-23.html
DTSTART:20230520T130000Z
DTEND:20230520T160000Z
LOCATION:Sanctuary - ERUUF   (4907 Garrett Road\, Durham\, NC 27707  )
SUMMARY:Annual Meeting '23
URL:https://eruuf.org/calendar/calendar-view/event/12615-annual-meeting-23.
 html
END:VEVENT
END:VCALENDAR
