BEGIN:VCALENDAR
VERSION:2.0
PRODID:-//https://eruuf.org///NONSGML kigkonsult.se iCalcreator 2.10.15//
METHOD:PUBLISH
BEGIN:VEVENT
UID:20260424T084817UTC-9868RGlMWs@https://eruuf.org/
DTSTAMP:20260424T084817Z
DESCRIPTION:Meeting and potluck to discuss our campaign to challenge the ba
 nks that finance fossil fuels. \nPlease bring plant-based meals for the po
 tluck! \nContack Betsy Bickel for further questions and confirmation of at
 tendance!  https://eruuf.org/calendar/calendar-view/event/12616-earth-just
 ice-meeting-potluck.html
DTSTART:20230407T220000Z
DTEND:20230407T233000Z
LOCATION:ERUUF Fellowship Hall (4907 Garrett Road)
SUMMARY:Earth Justice Meeting & Potluck
URL:https://eruuf.org/calendar/calendar-view/event/12616-earth-justice-meet
 ing-potluck.html
END:VEVENT
END:VCALENDAR
