BEGIN:VCALENDAR
VERSION:2.0
PRODID:-//https://eruuf.org///NONSGML kigkonsult.se iCalcreator 2.10.15//
METHOD:PUBLISH
BEGIN:VEVENT
UID:20260419T124140UTC-5256A5Zu0I@https://eruuf.org/
DTSTAMP:20260419T124140Z
DESCRIPTION:Contact: Beth Harvat\, bethandpeter@gmail.com  https://eruuf.or
 g/calendar/calendar-view/event/1262-tuesday-evening-prayer-group.html
DTSTART:20150407T230000Z
DTEND:20150408T003000Z
LOCATION:Room 3 - CARE Building ()
SUMMARY:Tuesday Evening Prayer Group
URL:https://eruuf.org/calendar/calendar-view/event/1262-tuesday-evening-pra
 yer-group.html
END:VEVENT
END:VCALENDAR
