BEGIN:VCALENDAR
VERSION:2.0
PRODID:-//https://eruuf.org///NONSGML kigkonsult.se iCalcreator 2.10.15//
METHOD:PUBLISH
BEGIN:VEVENT
UID:20260422T023127UTC-32294VuGhP@https://eruuf.org/
DTSTAMP:20260422T023127Z
DESCRIPTION:Contact: Beth Harvat\, bethandpeter@gmail.com  https://eruuf.or
 g/calendar/calendar-view/event/1263-tuesday-evening-prayer-group.html
DTSTART:20150304T000000Z
DTEND:20150304T013000Z
LOCATION:Room 3 - CARE Building ()
SUMMARY:Tuesday Evening Prayer Group
URL:https://eruuf.org/calendar/calendar-view/event/1263-tuesday-evening-pra
 yer-group.html
END:VEVENT
END:VCALENDAR
