BEGIN:VCALENDAR
VERSION:2.0
PRODID:-//https://eruuf.org///NONSGML kigkonsult.se iCalcreator 2.10.15//
METHOD:PUBLISH
BEGIN:VEVENT
UID:20260425T175834UTC-45816nEu31@https://eruuf.org/
DTSTAMP:20260425T175834Z
DESCRIPTION:Monthly Board meeting for the Eno River Fellowship Foundation.
 \nContact Judy Teague for questions.  https://eruuf.org/calendar/calendar-
 view/event/12643-eno-river-fellowship-foundation-board-meeting.html
DTSTART:20230517T190000Z
DTEND:20230517T203000Z
LOCATION:CARE Building\, Room 4/5 (4907 Garrett Road)
SUMMARY:Eno River Fellowship Foundation Board Meeting
URL:https://eruuf.org/calendar/calendar-view/event/12643-eno-river-fellowsh
 ip-foundation-board-meeting.html
END:VEVENT
END:VCALENDAR
