BEGIN:VCALENDAR
VERSION:2.0
PRODID:-//https://eruuf.org///NONSGML kigkonsult.se iCalcreator 2.10.15//
METHOD:PUBLISH
BEGIN:VEVENT
UID:20260422T153021UTC-90365LN2XV@https://eruuf.org/
DTSTAMP:20260422T153021Z
DESCRIPTION:Join the Board and Senior Staff for a Budget Forum on Monday\, 
 May 1 at 7 pm via zoom (link on web site). \nWe'll review the proposed bud
 get and staffing plan for the coming year\, 2023-24. \nThis is an opportun
 ity to provide feedback or ask questions before this budget goes to a vote
  at the Annual Meeting on May 20.\nThis forum will be online via only\, no
  in-person meeting.\nZOOM LINK https://eruuf.org/calendar/calendar-view/ev
 ent/12646-budget-forum.html
DTSTART:20230501T230000Z
DTEND:20230502T000000Z
LOCATION:Zoom Meeting ()
SUMMARY:Budget Forum
URL:https://eruuf.org/calendar/calendar-view/event/12646-budget-forum.html
END:VEVENT
END:VCALENDAR
