BEGIN:VCALENDAR
VERSION:2.0
PRODID:-//https://eruuf.org///NONSGML kigkonsult.se iCalcreator 2.10.15//
METHOD:PUBLISH
BEGIN:VEVENT
UID:20260423T094845UTC-7122Pv6JMv@https://eruuf.org/
DTSTAMP:20260423T094845Z
DESCRIPTION:Contact: Kathy Cronin - kcronin@eruuf.org  https://eruuf.org/ca
 lendar/calendar-view/event/1266-hsyg.html
DTSTART:20150510T151500Z
DTEND:20150510T163000Z
LOCATION:Room 4/5   (4907 Garrett Rd\, Durham\, NC 27707   )
SUMMARY:HSYG
URL:https://eruuf.org/calendar/calendar-view/event/1266-hsyg.html
END:VEVENT
END:VCALENDAR
