BEGIN:VCALENDAR
VERSION:2.0
PRODID:-//https://eruuf.org///NONSGML kigkonsult.se iCalcreator 2.10.15//
METHOD:PUBLISH
BEGIN:VEVENT
UID:20260426T005441UTC-8928Uhgkr5@https://eruuf.org/
DTSTAMP:20260426T005441Z
DESCRIPTION:Monthly ERUUF Board of Trustees Meeting. Join online via Zoom w
 ith the information attached in the file below.  https://eruuf.org/calenda
 r/calendar-view/event/12695-eruuf-board-of-trustees-meeting.html
DTSTART:20230516T230000Z
DTEND:20230517T010000Z
LOCATION:Online  (Online meetings are organized by the group leader. See th
 e meeting event details for information on how to join.)
SUMMARY:ERUUF Board of Trustees Meeting
URL:https://eruuf.org/calendar/calendar-view/event/12695-eruuf-board-of-tru
 stees-meeting.html
END:VEVENT
END:VCALENDAR
