BEGIN:VCALENDAR
VERSION:2.0
PRODID:-//https://eruuf.org///NONSGML kigkonsult.se iCalcreator 2.10.15//
METHOD:PUBLISH
BEGIN:VEVENT
UID:20260421T123416UTC-5076D3cofF@https://eruuf.org/
DTSTAMP:20260421T123416Z
DESCRIPTION:Contact: Kathy Cronin - kcronin@eruuf.org  https://eruuf.org/ca
 lendar/calendar-view/event/1276-hsyg.html
DTSTART:20150301T161500Z
DTEND:20150301T173000Z
LOCATION:Room 4/5   (4907 Garrett Rd\, Durham\, NC 27707   )
SUMMARY:HSYG
URL:https://eruuf.org/calendar/calendar-view/event/1276-hsyg.html
END:VEVENT
END:VCALENDAR
