BEGIN:VCALENDAR
VERSION:2.0
PRODID:-//https://eruuf.org///NONSGML kigkonsult.se iCalcreator 2.10.15//
METHOD:PUBLISH
BEGIN:VEVENT
UID:20260422T011418UTC-55209POj9T@https://eruuf.org/
DTSTAMP:20260422T011418Z
DESCRIPTION:Contact: Kathy Cronin - kcronin@eruuf.org  https://eruuf.org/ca
 lendar/calendar-view/event/1279-hsyg.html
DTSTART:20150208T161500Z
DTEND:20150208T173000Z
LOCATION:Room 4/5   (4907 Garrett Rd\, Durham\, NC 27707   )
SUMMARY:HSYG
URL:https://eruuf.org/calendar/calendar-view/event/1279-hsyg.html
END:VEVENT
END:VCALENDAR
