BEGIN:VCALENDAR
VERSION:2.0
PRODID:-//https://eruuf.org///NONSGML kigkonsult.se iCalcreator 2.10.15//
METHOD:PUBLISH
BEGIN:VEVENT
UID:20260424T205641UTC-4543j2beKc@https://eruuf.org/
DTSTAMP:20260424T205641Z
DESCRIPTION:Contact: Jan Gjestvang-Lucky - 919.265.4233 - janerik.gl@gmail.
 com  https://eruuf.org/calendar/calendar-view/event/1288-multicultural-tea
 m.html
DTSTART:20150419T170000Z
DTEND:20150419T190000Z
LOCATION:Room 1 - CARE Building ()
SUMMARY:Multicultural Team
URL:https://eruuf.org/calendar/calendar-view/event/1288-multicultural-team.
 html
END:VEVENT
END:VCALENDAR
