BEGIN:VCALENDAR
VERSION:2.0
PRODID:-//https://eruuf.org///NONSGML kigkonsult.se iCalcreator 2.10.15//
METHOD:PUBLISH
BEGIN:VEVENT
UID:20260423T093950UTC-2785thBU72@https://eruuf.org/
DTSTAMP:20260423T093950Z
DESCRIPTION:Contact: Jan Gjestvang-Lucky - 919.265.4233 - janerik.gl@gmail.
 com  https://eruuf.org/calendar/calendar-view/event/1294-multicultural-tea
 m.html
DTSTART:20150308T170000Z
DTEND:20150308T190000Z
LOCATION:Room 1 - CARE Building ()
SUMMARY:Multicultural Team
URL:https://eruuf.org/calendar/calendar-view/event/1294-multicultural-team.
 html
END:VEVENT
END:VCALENDAR
