BEGIN:VCALENDAR
VERSION:2.0
PRODID:-//https://eruuf.org///NONSGML kigkonsult.se iCalcreator 2.10.15//
METHOD:PUBLISH
BEGIN:VEVENT
UID:20260424T205901UTC-8066D8zzvS@https://eruuf.org/
DTSTAMP:20260424T205901Z
DESCRIPTION: https://eruuf.org/calendar/calendar-view/event/13-newcomer-ori
 entation.html
DTSTART:20180909T143000Z
DTEND:20180909T150000Z
LOCATION:Chapel   ()
SUMMARY:Newcomer Orientation
URL:https://eruuf.org/calendar/calendar-view/event/13-newcomer-orientation.
 html
END:VEVENT
END:VCALENDAR
