BEGIN:VCALENDAR
VERSION:2.0
PRODID:-//https://eruuf.org///NONSGML kigkonsult.se iCalcreator 2.10.15//
METHOD:PUBLISH
BEGIN:VEVENT
UID:20260424T081139UTC-8940BSKiFE@https://eruuf.org/
DTSTAMP:20260424T081139Z
DESCRIPTION:Contact Kathy Cronin at kcronin@eruuf.org for more information.
   https://eruuf.org/calendar/calendar-view/event/1321-coming-of-age-fmsyg.
 html
DTSTART:20150111T180000Z
DTEND:20150111T210000Z
LOCATION:Room 4/5   (4907 Garrett Rd\, Durham\, NC 27707   )
SUMMARY:Coming of Age/fMSYG
URL:https://eruuf.org/calendar/calendar-view/event/1321-coming-of-age-fmsyg
 .html
END:VEVENT
END:VCALENDAR
