BEGIN:VCALENDAR
VERSION:2.0
PRODID:-//https://eruuf.org///NONSGML kigkonsult.se iCalcreator 2.10.15//
METHOD:PUBLISH
BEGIN:VEVENT
UID:20260421T021403UTC-6007oS29MU@https://eruuf.org/
DTSTAMP:20260421T021403Z
DESCRIPTION:Contact: Amy MillerPhone 919-544-3846Email ame1ia@aol.com https
 ://eruuf.org/calendar/calendar-view/event/1322-humanist-group.html
DTSTART:20150510T170000Z
DTEND:20150510T183000Z
LOCATION:Commons Room   (4907 Garrett Rd\, Durham\, NC 27707  )
SUMMARY:Humanist Group
URL:https://eruuf.org/calendar/calendar-view/event/1322-humanist-group.html
END:VEVENT
END:VCALENDAR
