BEGIN:VCALENDAR
VERSION:2.0
PRODID:-//https://eruuf.org///NONSGML kigkonsult.se iCalcreator 2.10.15//
METHOD:PUBLISH
BEGIN:VEVENT
UID:20260421T040309UTC-3288v0bWhK@https://eruuf.org/
DTSTAMP:20260421T040309Z
DESCRIPTION:Contact: Amy MillerPhone 919-544-3846Email ame1ia@aol.com https
 ://eruuf.org/calendar/calendar-view/event/1323-humanist-group.html
DTSTART:20150412T170000Z
DTEND:20150412T183000Z
LOCATION:Commons Room   (4907 Garrett Rd\, Durham\, NC 27707  )
SUMMARY:Humanist Group
URL:https://eruuf.org/calendar/calendar-view/event/1323-humanist-group.html
END:VEVENT
END:VCALENDAR
