BEGIN:VCALENDAR
VERSION:2.0
PRODID:-//https://eruuf.org///NONSGML kigkonsult.se iCalcreator 2.10.15//
METHOD:PUBLISH
BEGIN:VEVENT
UID:20260422T095110UTC-0505rorBVC@https://eruuf.org/
DTSTAMP:20260422T095110Z
DESCRIPTION:Contact: Kacey Zucchino - kzucchino@eruuf.org  https://eruuf.or
 g/calendar/calendar-view/event/1328-membership-team.html
DTSTART:20151012T151500Z
DTEND:20151012T163000Z
LOCATION:Library - CARE Building ()
SUMMARY:Membership Team
URL:https://eruuf.org/calendar/calendar-view/event/1328-membership-team.htm
 l
END:VEVENT
END:VCALENDAR
