BEGIN:VCALENDAR
VERSION:2.0
PRODID:-//https://eruuf.org///NONSGML kigkonsult.se iCalcreator 2.10.15//
METHOD:PUBLISH
BEGIN:VEVENT
UID:20260422T095054UTC-43914Rp1Ms@https://eruuf.org/
DTSTAMP:20260422T095054Z
DESCRIPTION:Contact: Kacey Zucchino - kzucchino@eruuf.org  https://eruuf.or
 g/calendar/calendar-view/event/1331-membership-team.html
DTSTART:20150713T151500Z
DTEND:20150713T163000Z
LOCATION:Library - CARE Building ()
SUMMARY:Membership Team
URL:https://eruuf.org/calendar/calendar-view/event/1331-membership-team.htm
 l
END:VEVENT
END:VCALENDAR
