BEGIN:VCALENDAR
VERSION:2.0
PRODID:-//https://eruuf.org///NONSGML kigkonsult.se iCalcreator 2.10.15//
METHOD:PUBLISH
BEGIN:VEVENT
UID:20260424T163822UTC-0163F6Kd6u@https://eruuf.org/
DTSTAMP:20260424T163822Z
DESCRIPTION:Please see the document below for this meeting's schedule. Meet
 ing is held over Zoom (link below).\nMeeting ID: 587 833 0298Passcode: 273
 2\n \nJoin Meeting https://eruuf.org/calendar/calendar-view/event/13310-bo
 ard-of-trustees-monthly-meeting.html
DTSTART:20231017T230000Z
DTEND:20231018T010000Z
LOCATION:Online  (Online meetings are organized by the group leader. See th
 e meeting event details for information on how to join.)
SUMMARY:Board of Trustees Monthly Meeting
URL:https://eruuf.org/calendar/calendar-view/event/13310-board-of-trustees-
 monthly-meeting.html
END:VEVENT
END:VCALENDAR
