BEGIN:VCALENDAR
VERSION:2.0
PRODID:-//https://eruuf.org///NONSGML kigkonsult.se iCalcreator 2.10.15//
METHOD:PUBLISH
BEGIN:VEVENT
UID:20260423T135714UTC-7463iE9UFS@https://eruuf.org/
DTSTAMP:20260423T135714Z
DESCRIPTION:Contact: Kacey Zucchino - kzucchino@eruuf.org  https://eruuf.or
 g/calendar/calendar-view/event/1336-membership-team.html
DTSTART:20150209T161500Z
DTEND:20150209T173000Z
LOCATION:Library - CARE Building ()
SUMMARY:Membership Team
URL:https://eruuf.org/calendar/calendar-view/event/1336-membership-team.htm
 l
END:VEVENT
END:VCALENDAR
