BEGIN:VCALENDAR
VERSION:2.0
PRODID:-//https://eruuf.org///NONSGML kigkonsult.se iCalcreator 2.10.15//
METHOD:PUBLISH
BEGIN:VEVENT
UID:20260425T034302UTC-3280kZc9NJ@https://eruuf.org/
DTSTAMP:20260425T034302Z
DESCRIPTION:Please check the weekly E-News for more information!  https://e
 ruuf.org/calendar/calendar-view/event/13498-conversation-with-the-lead-min
 ister.html
DTSTART:20231112T173000Z
DTEND:20231112T190000Z
LOCATION:ERUUF Fellowship Hall (4907 Garrett Road)
SUMMARY:Conversation with the Lead Minister
URL:https://eruuf.org/calendar/calendar-view/event/13498-conversation-with-
 the-lead-minister.html
END:VEVENT
END:VCALENDAR
