BEGIN:VCALENDAR
VERSION:2.0
PRODID:-//https://eruuf.org///NONSGML kigkonsult.se iCalcreator 2.10.15//
METHOD:PUBLISH
BEGIN:VEVENT
UID:20260426T014203UTC-33635DgEVt@https://eruuf.org/
DTSTAMP:20260426T014203Z
DESCRIPTION:Join Rev. Daniel Trollinger as he provides an update on this ye
 ar's budget\, the state of ERUUF's finances\, and upcoming challenges and 
 opportunities. All members and friends are encouraged to attend.\nZoom lin
 k for meeting today:  https://zoom.us/j/98882819831?pwd=TXBmZU5YeXFQQkE1ZG
 JLRzJlZlN3Zz09\n \n  https://eruuf.org/calendar/calendar-view/event/13500-
 finance-forum.html
DTSTART:20231105T180000Z
DTEND:20231105T190000Z
LOCATION:ERUUF Fellowship Hall (4907 Garrett Road)
SUMMARY:Finance Forum
URL:https://eruuf.org/calendar/calendar-view/event/13500-finance-forum.html
END:VEVENT
END:VCALENDAR
