BEGIN:VCALENDAR
VERSION:2.0
PRODID:-//https://eruuf.org///NONSGML kigkonsult.se iCalcreator 2.10.15//
METHOD:PUBLISH
BEGIN:VEVENT
UID:20260423T140619UTC-3039HKWsHN@https://eruuf.org/
DTSTAMP:20260423T140619Z
DESCRIPTION:Join the Board and Senior Staff for a Budget Forum on Wednesday
 \, May 1 at 6:30 pm via zoom (link on web site). We'll review the proposed
  budget and staffing plan for the coming year\, 2024-25.\nThis is an oppor
 tunity to provide feedback or ask questions before this budget goes to a v
 ote at the Annual Meeting on May 19.\nThis forum will be online only\; no 
 in-person meeting.\nJoin on Zoom https://eruuf.org/calendar/calendar-view/
 event/13826-budget-forum.html
DTSTART:20240501T223000Z
DTEND:20240501T231500Z
LOCATION:Zoom Meeting ()
SUMMARY:Budget Forum
URL:https://eruuf.org/calendar/calendar-view/event/13826-budget-forum.html
END:VEVENT
END:VCALENDAR
