BEGIN:VCALENDAR
VERSION:2.0
PRODID:-//https://eruuf.org///NONSGML kigkonsult.se iCalcreator 2.10.15//
METHOD:PUBLISH
BEGIN:VEVENT
UID:20260424T032828UTC-0314eF0uA4@https://eruuf.org/
DTSTAMP:20260424T032828Z
DESCRIPTION:Help renovate and beautify the property for families who call t
 his place home. \nProjects will include: \n\nPainting\nMulching the playgr
 ound\nCleaning/Organizing the facility\n\nIf you are interested\, reach ou
 t to organizer\, Jane Hewitt.  https://eruuf.org/calendar/calendar-view/ev
 ent/13855-families-moving-forward-volunteer-opportunity.html
DTSTART:20240511T140000Z
DTEND:20240511T210000Z
LOCATION:ERUUF (Durham\, NC)
SUMMARY:Families Moving Forward Volunteer Opportunity
URL:https://eruuf.org/calendar/calendar-view/event/13855-families-moving-fo
 rward-volunteer-opportunity.html
END:VEVENT
END:VCALENDAR
