BEGIN:VCALENDAR
VERSION:2.0
PRODID:-//https://eruuf.org///NONSGML kigkonsult.se iCalcreator 2.10.15//
METHOD:PUBLISH
BEGIN:VEVENT
UID:20260424T083544UTC-9321A6g7AV@https://eruuf.org/
DTSTAMP:20260424T083544Z
DESCRIPTION:Contace Katie Ruf at katie.ruf@gmail.com for more information. 
  https://eruuf.org/calendar/calendar-view/event/1388-20-s-and-30-s-group.h
 tml
DTSTART:20150719T170000Z
DTEND:20150719T180000Z
LOCATION:Room 3 - CARE Building ()
SUMMARY:20's and 30's Group
URL:https://eruuf.org/calendar/calendar-view/event/1388-20-s-and-30-s-group
 .html
END:VEVENT
END:VCALENDAR
