BEGIN:VCALENDAR
VERSION:2.0
PRODID:-//https://eruuf.org///NONSGML kigkonsult.se iCalcreator 2.10.15//
METHOD:PUBLISH
BEGIN:VEVENT
UID:20260419T151403UTC-74656Wep2j@https://eruuf.org/
DTSTAMP:20260419T151403Z
DESCRIPTION:Contace Katie Ruf at katie.ruf@gmail.com for more information. 
  https://eruuf.org/calendar/calendar-view/event/1389-20-s-and-30-s-group.h
 tml
DTSTART:20150621T170000Z
DTEND:20150621T180000Z
LOCATION:Room 3 - CARE Building ()
SUMMARY:20's and 30's Group
URL:https://eruuf.org/calendar/calendar-view/event/1389-20-s-and-30-s-group
 .html
END:VEVENT
END:VCALENDAR
