BEGIN:VCALENDAR
VERSION:2.0
PRODID:-//https://eruuf.org///NONSGML kigkonsult.se iCalcreator 2.10.15//
METHOD:PUBLISH
BEGIN:VEVENT
UID:20260422T102649UTC-8488j6PdnW@https://eruuf.org/
DTSTAMP:20260422T102649Z
DESCRIPTION: https://eruuf.org/calendar/calendar-view/event/139-eruuf-annua
 l-auction.html
DTSTART:20180120T223000Z
DTEND:20180121T013000Z
LOCATION:Fellowship Hall   ()
SUMMARY:ERUUF Annual Auction
URL:https://eruuf.org/calendar/calendar-view/event/139-eruuf-annual-auction
 .html
END:VEVENT
END:VCALENDAR
