BEGIN:VCALENDAR
VERSION:2.0
PRODID:-//https://eruuf.org///NONSGML kigkonsult.se iCalcreator 2.10.15//
METHOD:PUBLISH
BEGIN:VEVENT
UID:20260421T160604UTC-490257bptl@https://eruuf.org/
DTSTAMP:20260421T160604Z
DESCRIPTION:Contace Katie Ruf at katie.ruf@gmail.com for more information. 
  https://eruuf.org/calendar/calendar-view/event/1393-20-s-and-30-s-group.h
 tml
DTSTART:20150215T180000Z
DTEND:20150215T190000Z
LOCATION:Room 3 - CARE Building ()
SUMMARY:20's and 30's Group
URL:https://eruuf.org/calendar/calendar-view/event/1393-20-s-and-30-s-group
 .html
END:VEVENT
END:VCALENDAR
