BEGIN:VCALENDAR
VERSION:2.0
PRODID:-//https://eruuf.org///NONSGML kigkonsult.se iCalcreator 2.10.15//
METHOD:PUBLISH
BEGIN:VEVENT
UID:20260422T031049UTC-989353SW0Z@https://eruuf.org/
DTSTAMP:20260422T031049Z
DESCRIPTION:Contact: Robyn Stout at pinecone42@nc.rr.com  https://eruuf.org
 /calendar/calendar-view/event/1396-board-of-trustees.html
DTSTART:20151020T223000Z
DTEND:20151021T013000Z
LOCATION:Commons Room   (4907 Garrett Rd\, Durham\, NC 27707  )
SUMMARY:Board of Trustees
URL:https://eruuf.org/calendar/calendar-view/event/1396-board-of-trustees.h
 tml
END:VEVENT
END:VCALENDAR
