BEGIN:VCALENDAR
VERSION:2.0
PRODID:-//https://eruuf.org///NONSGML kigkonsult.se iCalcreator 2.10.15//
METHOD:PUBLISH
BEGIN:VEVENT
UID:20260421T111804UTC-5913fAKwIv@https://eruuf.org/
DTSTAMP:20260421T111804Z
DESCRIPTION:This week's presentation: 'A Lifelong UU.' Arco Williams was bo
 rn and raised a Unitarian Universalist. Hear her story of how UUism has sh
 aped her identity and continues to impact her life.\nEvery summer a series
  of beloved ERUUFians present the story of their personal and/or spiritual
  quests. We have curated the collection below. Early childhood memories\, 
 important forks in the road\, significant events\, and a few funny anecdot
 es all have been recorded! We invite you to view and listen to these tales
  of insight and enlightenment.\nPresentations will be in-person only\, fro
 m 9:00am - 9:50am in the Commons Room of the CARE Building. \nContact the 
 Adult Programs Team for more information.\nJune 9 - Arco WilliamsJune 16 -
  David SokalJune 23 - Ed NormanJune 30 - Spiritual Odyssey on holidayJuly 
 7 - Spiritual Odyssey on holidayJuly 14 - Mel Downey-PiperJuly 28 - Susan 
 HazlettAugust 4 - Bev WeddaAugust 11 - Ann Verdine-JonesAugust 18 - Addiso
 n Evans https://eruuf.org/calendar/calendar-view/event/13979-spiritual-ody
 ssey.html
DTSTART:20240623T130000Z
DTEND:20240623T135000Z
LOCATION:ERUUF Commons Room (4907 Garrett Road)
SUMMARY:Spiritual Odyssey
URL:https://eruuf.org/calendar/calendar-view/event/13979-spiritual-odyssey.
 html
END:VEVENT
END:VCALENDAR
